BEGIN:VCALENDAR
VERSION:2.0
PRODID:-//85.13.164.211//NONSGML kigkonsult.se iCalcreator 2.20//
CALSCALE:GREGORIAN
METHOD:PUBLISH
X-WR-TIMEZONE:UTC
BEGIN:VEVENT
UID:event57@Privat-Winery Schloss Saaleck, Hammelburg
DTSTAMP:20260423T225923Z
CATEGORIES:Feste\, Veranstaltungen und Messen
DESCRIPTION:Frühlings Online WEINPROBE \nCategory: Feste\, Veranstaltungen 
 und Messen\nLink: https://www.weingut-schloss-saaleck.de/index.php?option=
 com_jem&view=event&id=57:online-weinprobe\n
DTSTART:20230325T190000Z
DTEND:20230325T210000Z
LOCATION:Vinothek im Rathaus\,Am Marktplatz 1\,97762  Hammelburg
SUMMARY:Frühlings Online WEINPROBE 
URL:https://www.weingut-schloss-saaleck.de/index.php?option=com_jem&view=ev
 ent&id=57:online-weinprobe
END:VEVENT
END:VCALENDAR