BEGIN:VCALENDAR
VERSION:2.0
PRODID:-//85.13.164.211//NONSGML kigkonsult.se iCalcreator 2.20//
CALSCALE:GREGORIAN
METHOD:PUBLISH
X-WR-TIMEZONE:UTC
BEGIN:VEVENT
UID:event28@Privat-Winery Schloss Saaleck, Hammelburg
DTSTAMP:20260423T054821Z
CATEGORIES:Feste\, Veranstaltungen und Messen
DESCRIPTION:Weinwanderung mit Weinrucksack\nCategory: Feste\, Veranstaltung
 en und Messen\nLink: https://www.weingut-schloss-saaleck.de/index.php?opti
 on=com_jem&view=event&id=28:weinentdecker-werden\n
DTSTART:20260302T090000Z
DTEND:20261223T180000Z
LOCATION:Veranstaltung im Weinberg\,Saaleckstraße 2\,97762 Hammelburg
SUMMARY:Weinwanderung mit Weinrucksack
URL:https://www.weingut-schloss-saaleck.de/index.php?option=com_jem&view=ev
 ent&id=28:weinentdecker-werden
END:VEVENT
END:VCALENDAR