BEGIN:VCALENDAR
VERSION:2.0
PRODID:-//85.13.164.211//NONSGML kigkonsult.se iCalcreator 2.20//
CALSCALE:GREGORIAN
METHOD:PUBLISH
X-WR-TIMEZONE:UTC
BEGIN:VEVENT
UID:event85@Privat-Winery Schloss Saaleck, Hammelburg
DTSTAMP:20260425T103707Z
CATEGORIES:Feste\, Veranstaltungen und Messen
DESCRIPTION:Winterglühn am Heroldsberg \nCategory: Feste\, Veranstaltungen 
 und Messen\nLink: https://www.weingut-schloss-saaleck.de/index.php?option=
 com_jem&view=event&id=85:wanderung\n
DTSTART:20250111T150000Z
DTEND:20250111T190000Z
LOCATION:Hammelburger Heroldsberg\,Zur Kanzel\,97762 Hammelburg
SUMMARY:Winterglühn am Heroldsberg 
URL:https://www.weingut-schloss-saaleck.de/index.php?option=com_jem&view=ev
 ent&id=85:wanderung
END:VEVENT
END:VCALENDAR