BEGIN:VCALENDAR
VERSION:2.0
PRODID:-//85.13.164.211//NONSGML kigkonsult.se iCalcreator 2.20//
CALSCALE:GREGORIAN
METHOD:PUBLISH
X-WR-TIMEZONE:UTC
BEGIN:VEVENT
UID:event15@Privat-Winery Schloss Saaleck, Hammelburg
DTSTAMP:20260425T215116Z
CATEGORIES:Feste\, Veranstaltungen und Messen
DESCRIPTION:Michaelsmarkt \nCategory: Feste\, Veranstaltungen und Messen\nL
 ink: https://www.weingut-schloss-saaleck.de/index.php?option=com_jem&view=
 event&id=15:michaelsmarkt-hammelburg\n
DTSTART:20250927T090000Z
DTEND:20250928T180000Z
LOCATION:Marktplatz\,Am Marktplatz 1\,97762 Hammelburg
SUMMARY:Michaelsmarkt 
URL:https://www.weingut-schloss-saaleck.de/index.php?option=com_jem&view=ev
 ent&id=15:michaelsmarkt-hammelburg
END:VEVENT
END:VCALENDAR