BEGIN:VCALENDAR
VERSION:2.0
PRODID:-//85.13.164.211//NONSGML kigkonsult.se iCalcreator 2.20//
CALSCALE:GREGORIAN
METHOD:PUBLISH
X-WR-TIMEZONE:UTC
BEGIN:VEVENT
UID:event79@Weingut Lange Schloss Saaleck, Hammelburg
DTSTAMP:20260424T232356Z
CATEGORIES:Messe - Ausstellung
DESCRIPTION:Kunst und Handwerkermarkt\nKategorie: Messe - Ausstellung\nICS-
 Link: https://www.weingut-schloss-saaleck.de/index.php?option=com_jem&view
 =event&id=79:kunst-und-handwerk\n
DTSTART:20250426T100000Z
DTEND:20250427T180000Z
LOCATION:Glonn\,Hermannsdorf 7\,85625 Glonn
SUMMARY:Kunst und Handwerkermarkt
URL:https://www.weingut-schloss-saaleck.de/index.php?option=com_jem&view=ev
 ent&id=79:kunst-und-handwerk
END:VEVENT
END:VCALENDAR